BEGIN:VCALENDAR
VERSION:2.0
PRODID:-//GoGreenInside® - ECPv4.9.0//NONSGML v1.0//EN
CALSCALE:GREGORIAN
METHOD:PUBLISH
X-WR-CALNAME:GoGreenInside®
X-ORIGINAL-URL:https://gogreeninside.com
X-WR-CALDESC:Events for GoGreenInside®
BEGIN:VEVENT
DTSTART;VALUE=DATE:20160219
DTEND;VALUE=DATE:20160323
DTSTAMP:20260425T135215
CREATED:20150325T101953Z
LAST-MODIFIED:20150325T101953Z
UID:3319-1455840000-1458691199@gogreeninside.com
SUMMARY:Natural Health & Natural Living Cons
DESCRIPTION:Nonumes contentiones ut qui. Aeque accusam consetetur mei ea\, mel ea duis mandamus\, in omittam constituam per. Etiam propriae reprimique ex usu\, porro torquatos forensibus eu has\, sed movet erroribus ne. Pro omnium suscipit id\, verterem detraxit ea ius. Soleat electram vix cu\, mea dicat noster forensibus et. Quis facete causae pro ut\, ea vel reque timeam\, admodum appareat an sed. \nEam tempor vidisse aliquip id. No ius augue assueverit\, eum meliore propriae torquatos ex. Sed ad veri simul iriure\, inani feugiat honestatis qui eu. Pri nominavi splendide ne. Pri causae definiebas ei\, in soluta tritani has\, mei ipsum dolore virtute no. \n
URL:https://gogreeninside.com/event/natural-health-natural-living-cons/
LOCATION:Themeum\, 8605 Santa Monica Blvd\, Los Angeles\, CA\, 90069\, United States
ATTACH;FMTTYPE=image/png:https://gogreeninside.com/wp-content/uploads/2015/03/3525644-compressor.png
ORGANIZER;CN="Jhon%20Doe%2C%20CEO%2C%20Themeum":MAILTO:email@jhondoe.com
END:VEVENT
END:VCALENDAR